BEGIN:VCALENDAR
VERSION:2.0
PRODID:-//Hinckley Canoe Club - ECPv6.15.20//NONSGML v1.0//EN
CALSCALE:GREGORIAN
METHOD:PUBLISH
X-WR-CALNAME:Hinckley Canoe Club
X-ORIGINAL-URL:https://www.hinckleycanoeclub.co.uk
X-WR-CALDESC:Events for Hinckley Canoe Club
REFRESH-INTERVAL;VALUE=DURATION:PT1H
X-Robots-Tag:noindex
X-PUBLISHED-TTL:PT1H
BEGIN:VTIMEZONE
TZID:Europe/London
BEGIN:DAYLIGHT
TZOFFSETFROM:+0000
TZOFFSETTO:+0100
TZNAME:BST
DTSTART:20190331T010000
END:DAYLIGHT
BEGIN:STANDARD
TZOFFSETFROM:+0100
TZOFFSETTO:+0000
TZNAME:GMT
DTSTART:20191027T010000
END:STANDARD
BEGIN:DAYLIGHT
TZOFFSETFROM:+0000
TZOFFSETTO:+0100
TZNAME:BST
DTSTART:20200329T010000
END:DAYLIGHT
BEGIN:STANDARD
TZOFFSETFROM:+0100
TZOFFSETTO:+0000
TZNAME:GMT
DTSTART:20201025T010000
END:STANDARD
BEGIN:DAYLIGHT
TZOFFSETFROM:+0000
TZOFFSETTO:+0100
TZNAME:BST
DTSTART:20210328T010000
END:DAYLIGHT
BEGIN:STANDARD
TZOFFSETFROM:+0100
TZOFFSETTO:+0000
TZNAME:GMT
DTSTART:20211031T010000
END:STANDARD
END:VTIMEZONE
BEGIN:VEVENT
DTSTART;TZID=Europe/London:20200320T190000
DTEND;TZID=Europe/London:20200320T190000
DTSTAMP:20260424T090249
CREATED:20200309T015205Z
LAST-MODIFIED:20200426T101208Z
UID:4776-1584730800-1584730800@www.hinckleycanoeclub.co.uk
SUMMARY:Skittles Social
DESCRIPTION:Postponed  \nFamily friendly social for all members and their families . Come along and have a bite to eat \, a few games of skittles and a drink or two while having a catch up with everyone . \nFood and skittles £10.50\nJust Skittles £3.50 \nBook and pay via Bookwhen \, https://bookwhen.com/hinckleycanoeclub#focus=ev-sa5j-20200320190000 \nfood options to be chosen when booking .\nChoose from the following :\nFish and chips\nChicken and chips\nVegetable lasagne and chips\nSteak pie and chips\nChicken pie and chips \nAll food orders must be ordered by the 5th March after that time only skittles tickets will be available .
URL:https://www.hinckleycanoeclub.co.uk/calendar/skittles-social/
LOCATION:Ansty Social Club\, Grove Road\, Ansty\, United Kingdom
CATEGORIES:Social
END:VEVENT
END:VCALENDAR